Package: anota Version: 1.55.0 Command: /Library/Frameworks/R.framework/Resources/bin/R CMD build --keep-empty-dirs --no-resave-data anota StartedAt: 2025-02-09 15:54:08 -0500 (Sun, 09 Feb 2025) EndedAt: 2025-02-09 15:54:43 -0500 (Sun, 09 Feb 2025) EllapsedTime: 35.5 seconds RetCode: 0 Status: OK PackageFile: anota_1.55.0.tar.gz PackageFileSize: 942.7 KiB