Package: anota Version: 1.55.0 Command: /Library/Frameworks/R.framework/Resources/bin/R CMD INSTALL anota StartedAt: 2025-02-09 15:35:50 -0500 (Sun, 09 Feb 2025) EndedAt: 2025-02-09 15:36:03 -0500 (Sun, 09 Feb 2025) EllapsedTime: 13.5 seconds RetCode: 0 Status: OK