Package: anota Version: 1.55.0 Command: /home/biocbuild/bbs-3.21-bioc/R/bin/R CMD build --keep-empty-dirs --no-resave-data anota StartedAt: 2025-02-09 16:09:08 -0500 (Sun, 09 Feb 2025) EndedAt: 2025-02-09 16:09:34 -0500 (Sun, 09 Feb 2025) EllapsedTime: 26.0 seconds RetCode: 0 Status: OK PackageFile: anota_1.55.0.tar.gz PackageFileSize: 943.2 KiB