Package: anota Version: 1.55.0 Command: /home/biocbuild/bbs-3.21-bioc/R/bin/R CMD INSTALL anota StartedAt: 2025-02-09 15:12:13 -0500 (Sun, 09 Feb 2025) EndedAt: 2025-02-09 15:12:22 -0500 (Sun, 09 Feb 2025) EllapsedTime: 9.2 seconds RetCode: 0 Status: OK