Package: anota Version: 1.55.0 Command: chmod a+r anota -R && E:\biocbuild\bbs-3.21-bioc\R\bin\R.exe CMD build --keep-empty-dirs --no-resave-data anota StartedAt: 2025-02-09 17:13:52 -0500 (Sun, 09 Feb 2025) EndedAt: 2025-02-09 17:14:39 -0500 (Sun, 09 Feb 2025) EllapsedTime: 46.9 seconds RetCode: 0 Status: OK PackageFile: anota_1.55.0.tar.gz PackageFileSize: 829.7 KiB