Package: anota Version: 1.55.0 Command: E:\biocbuild\bbs-3.21-bioc\R\bin\R.exe CMD check --no-multiarch --install=check:anota.install-out.txt --library=E:\biocbuild\bbs-3.21-bioc\R\library --no-vignettes --timings anota_1.55.0.tar.gz StartedAt: 2025-02-09 22:37:10 -0500 (Sun, 09 Feb 2025) EndedAt: 2025-02-09 22:38:36 -0500 (Sun, 09 Feb 2025) EllapsedTime: 86.1 seconds RetCode: 0 Status: OK CheckDir: anota.Rcheck Warnings: 0