Package: anota Version: 1.55.0 Command: E:\biocbuild\bbs-3.21-bioc\R\bin\R.exe CMD INSTALL anota StartedAt: 2025-02-09 16:00:26 -0500 (Sun, 09 Feb 2025) EndedAt: 2025-02-09 16:00:41 -0500 (Sun, 09 Feb 2025) EllapsedTime: 14.9 seconds RetCode: 0 Status: OK