Package: apeglm Version: 1.29.0 Command: /Library/Frameworks/R.framework/Resources/bin/R CMD build --keep-empty-dirs --no-resave-data apeglm StartedAt: 2025-02-04 15:52:43 -0500 (Tue, 04 Feb 2025) EndedAt: 2025-02-04 15:54:28 -0500 (Tue, 04 Feb 2025) EllapsedTime: 105.0 seconds RetCode: 0 Status: OK PackageFile: apeglm_1.29.0.tar.gz PackageFileSize: 1.265 MiB