Package: apeglm Version: 1.29.0 Command: /Library/Frameworks/R.framework/Resources/bin/R CMD INSTALL apeglm StartedAt: 2025-02-09 15:13:17 -0500 (Sun, 09 Feb 2025) EndedAt: 2025-02-09 15:14:18 -0500 (Sun, 09 Feb 2025) EllapsedTime: 60.9 seconds RetCode: 0 Status: OK