Package: apeglm Version: 1.29.0 Command: /home/biocbuild/bbs-3.21-bioc/R/bin/R CMD build --keep-empty-dirs --no-resave-data apeglm StartedAt: 2025-02-09 16:09:41 -0500 (Sun, 09 Feb 2025) EndedAt: 2025-02-09 16:11:21 -0500 (Sun, 09 Feb 2025) EllapsedTime: 100.1 seconds RetCode: 0 Status: OK PackageFile: apeglm_1.29.0.tar.gz PackageFileSize: 1.203 MiB