Package: apeglm Version: 1.29.0 Command: chmod a+r apeglm -R && E:\biocbuild\bbs-3.21-bioc\R\bin\R.exe CMD build --keep-empty-dirs --no-resave-data apeglm StartedAt: 2025-02-04 17:12:05 -0500 (Tue, 04 Feb 2025) EndedAt: 2025-02-04 17:14:52 -0500 (Tue, 04 Feb 2025) EllapsedTime: 166.9 seconds RetCode: 0 Status: OK PackageFile: apeglm_1.29.0.tar.gz PackageFileSize: 447 KiB