Package: apeglm Version: 1.29.0 Command: E:\biocbuild\bbs-3.21-bioc\R\bin\R.exe CMD check --no-multiarch --install=check:apeglm.install-out.txt --library=E:\biocbuild\bbs-3.21-bioc\R\library --no-vignettes --timings apeglm_1.29.0.tar.gz StartedAt: 2025-02-04 23:04:30 -0500 (Tue, 04 Feb 2025) EndedAt: 2025-02-04 23:08:13 -0500 (Tue, 04 Feb 2025) EllapsedTime: 223.1 seconds RetCode: 0 Status: OK CheckDir: apeglm.Rcheck Warnings: 0