Package: aroma.light Version: 3.37.0 Command: rm -rf aroma.light.buildbin-libdir && mkdir aroma.light.buildbin-libdir && /Users/biocbuild/BBS/utils/build-universal.sh aroma.light_3.37.0.tar.gz /Library/Frameworks/R.framework/Resources/bin/R aroma.light.buildbin-libdir StartedAt: 2025-02-09 22:05:58 -0500 (Sun, 09 Feb 2025) EndedAt: 2025-02-09 22:06:01 -0500 (Sun, 09 Feb 2025) EllapsedTime: 3.1 seconds RetCode: 0 Status: OK PackageFile: aroma.light_3.37.0.tgz PackageFileSize: 607.8 KiB