Package: aroma.light Version: 3.37.0 Command: /Library/Frameworks/R.framework/Resources/bin/R CMD check --install=check:aroma.light.install-out.txt --library=/Library/Frameworks/R.framework/Resources/library --no-vignettes --timings aroma.light_3.37.0.tar.gz StartedAt: 2025-02-04 18:04:50 -0500 (Tue, 04 Feb 2025) EndedAt: 2025-02-04 18:05:23 -0500 (Tue, 04 Feb 2025) EllapsedTime: 33.4 seconds RetCode: 0 Status: OK CheckDir: aroma.light.Rcheck Warnings: 0