Package: aroma.light Version: 3.37.0 Command: /Library/Frameworks/R.framework/Resources/bin/R CMD INSTALL aroma.light StartedAt: 2025-02-04 15:03:00 -0500 (Tue, 04 Feb 2025) EndedAt: 2025-02-04 15:03:04 -0500 (Tue, 04 Feb 2025) EllapsedTime: 3.4 seconds RetCode: 0 Status: OK