Package: aroma.light Version: 3.37.0 Command: /home/biocbuild/bbs-3.21-bioc/R/bin/R CMD build --keep-empty-dirs --no-resave-data aroma.light StartedAt: 2025-02-04 16:07:49 -0500 (Tue, 04 Feb 2025) EndedAt: 2025-02-04 16:07:50 -0500 (Tue, 04 Feb 2025) EllapsedTime: 1.0 seconds RetCode: 0 Status: OK PackageFile: aroma.light_3.37.0.tar.gz PackageFileSize: 379.3 KiB