Package: aroma.light Version: 3.37.0 Command: chmod a+r aroma.light -R && E:\biocbuild\bbs-3.21-bioc\R\bin\R.exe CMD build --keep-empty-dirs --no-resave-data aroma.light StartedAt: 2025-02-09 17:15:28 -0500 (Sun, 09 Feb 2025) EndedAt: 2025-02-09 17:15:36 -0500 (Sun, 09 Feb 2025) EllapsedTime: 7.9 seconds RetCode: 0 Status: OK PackageFile: aroma.light_3.37.0.tar.gz PackageFileSize: 379.3 KiB