Package: aroma.light Version: 3.37.0 Command: E:\biocbuild\bbs-3.21-bioc\R\bin\R.exe CMD INSTALL aroma.light StartedAt: 2025-02-09 15:26:21 -0500 (Sun, 09 Feb 2025) EndedAt: 2025-02-09 15:27:14 -0500 (Sun, 09 Feb 2025) EllapsedTime: 52.9 seconds RetCode: 0 Status: OK