Package: arrayMvout Version: 1.65.0 Command: rm -rf arrayMvout.buildbin-libdir && mkdir arrayMvout.buildbin-libdir && /Users/biocbuild/BBS/utils/build-universal.sh arrayMvout_1.65.0.tar.gz /Library/Frameworks/R.framework/Resources/bin/R arrayMvout.buildbin-libdir StartedAt: 2025-02-04 22:07:47 -0500 (Tue, 04 Feb 2025) EndedAt: 2025-02-04 22:08:09 -0500 (Tue, 04 Feb 2025) EllapsedTime: 21.4 seconds RetCode: 0 Status: OK PackageFile: arrayMvout_1.65.0.tgz PackageFileSize: 858.6 KiB