Package: arrayMvout Version: 1.65.0 Command: /Library/Frameworks/R.framework/Resources/bin/R CMD INSTALL arrayMvout StartedAt: 2025-02-04 15:27:57 -0500 (Tue, 04 Feb 2025) EndedAt: 2025-02-04 15:28:16 -0500 (Tue, 04 Feb 2025) EllapsedTime: 19.5 seconds RetCode: 0 Status: OK