Package: arrayMvout Version: 1.65.0 Command: /home/biocbuild/R/R/bin/R CMD check --install=check:arrayMvout.install-out.txt --library=/home/biocbuild/R/R/site-library --no-vignettes --timings arrayMvout_1.65.0.tar.gz StartedAt: 2025-01-28 03:34:47 -0000 (Tue, 28 Jan 2025) EndedAt: 2025-01-28 03:41:39 -0000 (Tue, 28 Jan 2025) EllapsedTime: 412.6 seconds RetCode: 0 Status: WARNINGS CheckDir: arrayMvout.Rcheck Warnings: 5