Package: arrayMvout Version: 1.65.0 Command: rm -rf arrayMvout.buildbin-libdir && mkdir arrayMvout.buildbin-libdir && /Users/biocbuild/BBS/utils/build-universal.sh arrayMvout_1.65.0.tar.gz /Library/Frameworks/R.framework/Resources/bin/R arrayMvout.buildbin-libdir StartedAt: 2025-02-10 00:42:02 -0500 (Mon, 10 Feb 2025) EndedAt: 2025-02-10 00:43:13 -0500 (Mon, 10 Feb 2025) EllapsedTime: 70.5 seconds RetCode: 0 Status: OK PackageFile: arrayMvout_1.65.0.tgz PackageFileSize: 857.9 KiB