Package: arrayMvout Version: 1.65.0 Command: /Library/Frameworks/R.framework/Resources/bin/R CMD INSTALL arrayMvout StartedAt: 2025-02-04 15:43:28 -0500 (Tue, 04 Feb 2025) EndedAt: 2025-02-04 15:44:30 -0500 (Tue, 04 Feb 2025) EllapsedTime: 62.4 seconds RetCode: 0 Status: OK