Package: arrayMvout Version: 1.65.0 Command: E:\biocbuild\bbs-3.21-bioc\R\bin\R.exe CMD INSTALL arrayMvout StartedAt: 2025-02-04 16:53:57 -0500 (Tue, 04 Feb 2025) EndedAt: 2025-02-04 16:54:59 -0500 (Tue, 04 Feb 2025) EllapsedTime: 61.2 seconds RetCode: 0 Status: OK