Package: arrayQualityMetrics Version: 3.63.0 Command: rm -rf arrayQualityMetrics.buildbin-libdir && mkdir arrayQualityMetrics.buildbin-libdir && /Users/biocbuild/BBS/utils/build-universal.sh arrayQualityMetrics_3.63.0.tar.gz /Library/Frameworks/R.framework/Resources/bin/R arrayQualityMetrics.buildbin-libdir StartedAt: 2025-02-04 22:07:47 -0500 (Tue, 04 Feb 2025) EndedAt: 2025-02-04 22:07:58 -0500 (Tue, 04 Feb 2025) EllapsedTime: 11.2 seconds RetCode: 0 Status: OK PackageFile: arrayQualityMetrics_3.63.0.tgz PackageFileSize: 557.8 KiB