Package: arrayQualityMetrics Version: 3.63.0 Command: /Library/Frameworks/R.framework/Resources/bin/R CMD build --keep-empty-dirs --no-resave-data arrayQualityMetrics StartedAt: 2025-02-04 15:33:57 -0500 (Tue, 04 Feb 2025) EndedAt: 2025-02-04 15:37:04 -0500 (Tue, 04 Feb 2025) EllapsedTime: 187.0 seconds RetCode: 0 Status: OK PackageFile: arrayQualityMetrics_3.63.0.tar.gz PackageFileSize: 596.2 KiB