Package: arrayQualityMetrics Version: 3.63.0 Command: /Library/Frameworks/R.framework/Resources/bin/R CMD check --install=check:arrayQualityMetrics.install-out.txt --library=/Library/Frameworks/R.framework/Resources/library --no-vignettes --timings arrayQualityMetrics_3.63.0.tar.gz StartedAt: 2025-02-04 18:05:08 -0500 (Tue, 04 Feb 2025) EndedAt: 2025-02-04 18:06:05 -0500 (Tue, 04 Feb 2025) EllapsedTime: 56.7 seconds RetCode: 0 Status: OK CheckDir: arrayQualityMetrics.Rcheck Warnings: 0