Package: arrayQualityMetrics Version: 3.63.0 Command: /Library/Frameworks/R.framework/Resources/bin/R CMD INSTALL arrayQualityMetrics StartedAt: 2025-02-04 15:20:09 -0500 (Tue, 04 Feb 2025) EndedAt: 2025-02-04 15:20:18 -0500 (Tue, 04 Feb 2025) EllapsedTime: 9.3 seconds RetCode: 0 Status: OK