Package: arrayQualityMetrics Version: 3.63.0 Command: /home/biocbuild/R/R/bin/R CMD build --keep-empty-dirs --no-resave-data arrayQualityMetrics StartedAt: 2025-01-29 20:51:31 -0000 (Wed, 29 Jan 2025) EndedAt: 2025-01-29 21:00:19 -0000 (Wed, 29 Jan 2025) EllapsedTime: 528.2 seconds RetCode: 0 Status: OK PackageFile: arrayQualityMetrics_3.63.0.tar.gz PackageFileSize: 577.3 KiB