Package: arrayQualityMetrics Version: 3.63.0 Command: /home/biocbuild/R/R/bin/R CMD check --install=check:arrayQualityMetrics.install-out.txt --library=/home/biocbuild/R/R/site-library --no-vignettes --timings arrayQualityMetrics_3.63.0.tar.gz StartedAt: 2025-01-28 03:35:04 -0000 (Tue, 28 Jan 2025) EndedAt: 2025-01-28 03:38:13 -0000 (Tue, 28 Jan 2025) EllapsedTime: 189.3 seconds RetCode: 0 Status: OK CheckDir: arrayQualityMetrics.Rcheck Warnings: 0