Package: arrayQualityMetrics Version: 3.63.0 Command: /home/biocbuild/R/R/bin/R CMD INSTALL arrayQualityMetrics StartedAt: 2025-01-29 20:16:34 -0000 (Wed, 29 Jan 2025) EndedAt: 2025-01-29 20:17:09 -0000 (Wed, 29 Jan 2025) EllapsedTime: 34.6 seconds RetCode: 0 Status: OK