Package: arrayQualityMetrics Version: 3.63.0 Command: rm -rf arrayQualityMetrics.buildbin-libdir && mkdir arrayQualityMetrics.buildbin-libdir && /Users/biocbuild/BBS/utils/build-universal.sh arrayQualityMetrics_3.63.0.tar.gz /Library/Frameworks/R.framework/Resources/bin/R arrayQualityMetrics.buildbin-libdir StartedAt: 2025-02-10 00:42:04 -0500 (Mon, 10 Feb 2025) EndedAt: 2025-02-10 00:42:41 -0500 (Mon, 10 Feb 2025) EllapsedTime: 37.0 seconds RetCode: 0 Status: OK PackageFile: arrayQualityMetrics_3.63.0.tgz PackageFileSize: 558.4 KiB