Package: arrayQualityMetrics Version: 3.63.0 Command: /Library/Frameworks/R.framework/Resources/bin/R CMD build --keep-empty-dirs --no-resave-data arrayQualityMetrics StartedAt: 2025-02-12 15:53:21 -0500 (Wed, 12 Feb 2025) EndedAt: 2025-02-12 16:00:21 -0500 (Wed, 12 Feb 2025) EllapsedTime: 420.2 seconds RetCode: 0 Status: OK PackageFile: arrayQualityMetrics_3.63.0.tar.gz PackageFileSize: 596.9 KiB