Package: arrayQualityMetrics Version: 3.63.0 Command: /home/biocbuild/bbs-3.21-bioc/R/bin/R CMD build --keep-empty-dirs --no-resave-data arrayQualityMetrics StartedAt: 2025-02-04 16:07:51 -0500 (Tue, 04 Feb 2025) EndedAt: 2025-02-04 16:14:51 -0500 (Tue, 04 Feb 2025) EllapsedTime: 419.4 seconds RetCode: 0 Status: OK PackageFile: arrayQualityMetrics_3.63.0.tar.gz PackageFileSize: 597.1 KiB