Package: arrayQualityMetrics Version: 3.63.0 Command: /home/biocbuild/bbs-3.21-bioc/R/bin/R CMD check --install=check:arrayQualityMetrics.install-out.txt --library=/home/biocbuild/bbs-3.21-bioc/R/site-library --timings arrayQualityMetrics_3.63.0.tar.gz StartedAt: 2025-02-04 20:00:24 -0500 (Tue, 04 Feb 2025) EndedAt: 2025-02-04 20:09:23 -0500 (Tue, 04 Feb 2025) EllapsedTime: 538.7 seconds RetCode: 0 Status: OK CheckDir: arrayQualityMetrics.Rcheck Warnings: 0