Package: arrayQualityMetrics Version: 3.63.0 Command: /home/biocbuild/bbs-3.21-bioc/R/bin/R CMD INSTALL arrayQualityMetrics StartedAt: 2025-02-04 15:28:09 -0500 (Tue, 04 Feb 2025) EndedAt: 2025-02-04 15:28:33 -0500 (Tue, 04 Feb 2025) EllapsedTime: 24.1 seconds RetCode: 0 Status: OK