Package: arrayQualityMetrics Version: 3.63.0 Command: rm -rf arrayQualityMetrics.buildbin-libdir && mkdir arrayQualityMetrics.buildbin-libdir && E:\biocbuild\bbs-3.21-bioc\R\bin\R.exe CMD INSTALL --build --library=arrayQualityMetrics.buildbin-libdir arrayQualityMetrics_3.63.0.tar.gz StartedAt: 2025-02-05 07:26:06 -0500 (Wed, 05 Feb 2025) EndedAt: 2025-02-05 07:28:24 -0500 (Wed, 05 Feb 2025) EllapsedTime: 137.6 seconds RetCode: 0 Status: OK PackageFile: arrayQualityMetrics_3.63.0.zip PackageFileSize: 566.4 KiB