Package: arrayQualityMetrics Version: 3.63.0 Command: chmod a+r arrayQualityMetrics -R && E:\biocbuild\bbs-3.21-bioc\R\bin\R.exe CMD build --keep-empty-dirs --no-resave-data arrayQualityMetrics StartedAt: 2025-02-04 17:12:38 -0500 (Tue, 04 Feb 2025) EndedAt: 2025-02-04 17:22:11 -0500 (Tue, 04 Feb 2025) EllapsedTime: 572.2 seconds RetCode: 0 Status: OK PackageFile: arrayQualityMetrics_3.63.0.tar.gz PackageFileSize: 599.2 KiB