Package: arrayQualityMetrics Version: 3.63.0 Command: E:\biocbuild\bbs-3.21-bioc\R\bin\R.exe CMD INSTALL arrayQualityMetrics StartedAt: 2025-02-04 16:28:04 -0500 (Tue, 04 Feb 2025) EndedAt: 2025-02-04 16:29:23 -0500 (Tue, 04 Feb 2025) EllapsedTime: 78.5 seconds RetCode: 0 Status: OK