Package: assorthead Version: 1.1.13 Command: /home/biocbuild/R/R/bin/R CMD build --keep-empty-dirs --no-resave-data assorthead StartedAt: 2025-01-29 20:53:34 -0000 (Wed, 29 Jan 2025) EndedAt: 2025-01-29 20:53:42 -0000 (Wed, 29 Jan 2025) EllapsedTime: 8.0 seconds RetCode: 0 Status: OK PackageFile: assorthead_1.1.13.tar.gz PackageFileSize: 1.76 MiB