Package: assorthead Version: 1.1.13 Command: /home/biocbuild/R/R/bin/R CMD check --install=check:assorthead.install-out.txt --library=/home/biocbuild/R/R/site-library --no-vignettes --timings assorthead_1.1.13.tar.gz StartedAt: 2025-01-28 03:36:51 -0000 (Tue, 28 Jan 2025) EndedAt: 2025-01-28 03:37:03 -0000 (Tue, 28 Jan 2025) EllapsedTime: 12.1 seconds RetCode: 0 Status: OK CheckDir: assorthead.Rcheck Warnings: 0