Package: assorthead Version: 1.1.13 Command: /Library/Frameworks/R.framework/Resources/bin/R CMD build --keep-empty-dirs --no-resave-data assorthead StartedAt: 2025-02-09 15:55:06 -0500 (Sun, 09 Feb 2025) EndedAt: 2025-02-09 15:55:18 -0500 (Sun, 09 Feb 2025) EllapsedTime: 11.4 seconds RetCode: 0 Status: OK PackageFile: assorthead_1.1.13.tar.gz PackageFileSize: 1.738 MiB