Package: assorthead Version: 1.1.13 Command: /home/biocbuild/bbs-3.21-bioc/R/bin/R CMD INSTALL assorthead StartedAt: 2025-02-09 15:02:43 -0500 (Sun, 09 Feb 2025) EndedAt: 2025-02-09 15:02:51 -0500 (Sun, 09 Feb 2025) EllapsedTime: 8.0 seconds RetCode: 0 Status: OK