Package: atSNP Version: 1.23.0 Maintainer: Sunyoung Shin MaintainerEmail: sunyoung.shin at utdallas.edu git_url: https://git.bioconductor.org/packages/atSNP git_branch: devel git_last_commit: 38e28cc git_last_commit_date: 2024-10-29 10:34:42 -0500 (Tue, 29 Oct 2024)