Package: atSNP Version: 1.23.0 Command: rm -rf atSNP.buildbin-libdir && mkdir atSNP.buildbin-libdir && /Users/biocbuild/BBS/utils/build-universal.sh atSNP_1.23.0.tar.gz /Library/Frameworks/R.framework/Resources/bin/R atSNP.buildbin-libdir StartedAt: 2025-02-09 22:06:11 -0500 (Sun, 09 Feb 2025) EndedAt: 2025-02-09 22:06:36 -0500 (Sun, 09 Feb 2025) EllapsedTime: 25.5 seconds RetCode: 0 Status: OK PackageFile: atSNP_1.23.0.tgz PackageFileSize: 1.185 MiB