Package: atSNP Version: 1.23.0 Command: /Library/Frameworks/R.framework/Resources/bin/R CMD build --keep-empty-dirs --no-resave-data atSNP StartedAt: 2025-02-09 15:34:41 -0500 (Sun, 09 Feb 2025) EndedAt: 2025-02-09 15:35:14 -0500 (Sun, 09 Feb 2025) EllapsedTime: 33.3 seconds RetCode: 0 Status: OK PackageFile: atSNP_1.23.0.tar.gz PackageFileSize: 1.029 MiB