Package: atSNP Version: 1.23.0 Command: /home/biocbuild/R/R/bin/R CMD build --keep-empty-dirs --no-resave-data atSNP StartedAt: 2025-01-29 20:54:20 -0000 (Wed, 29 Jan 2025) EndedAt: 2025-01-29 20:56:21 -0000 (Wed, 29 Jan 2025) EllapsedTime: 121.0 seconds RetCode: 0 Status: OK PackageFile: atSNP_1.23.0.tar.gz PackageFileSize: 857.4 KiB