Package: atSNP Version: 1.23.0 Command: /home/biocbuild/R/R/bin/R CMD check --install=check:atSNP.install-out.txt --library=/home/biocbuild/R/R/site-library --no-vignettes --timings atSNP_1.23.0.tar.gz StartedAt: 2025-01-28 03:37:26 -0000 (Tue, 28 Jan 2025) EndedAt: 2025-01-28 03:45:33 -0000 (Tue, 28 Jan 2025) EllapsedTime: 486.5 seconds RetCode: 0 Status: OK CheckDir: atSNP.Rcheck Warnings: 0