Package: atena Version: 1.13.0 Maintainer: Robert Castelo MaintainerEmail: robert.castelo at upf.edu git_url: https://git.bioconductor.org/packages/atena git_branch: devel git_last_commit: 90f5b5e git_last_commit_date: 2025-02-03 08:40:22 -0500 (Mon, 03 Feb 2025)