Package: atena Version: 1.13.0 Command: /home/biocbuild/R/R/bin/R CMD build --keep-empty-dirs --no-resave-data atena StartedAt: 2025-01-29 20:54:13 -0000 (Wed, 29 Jan 2025) EndedAt: 2025-01-29 21:13:18 -0000 (Wed, 29 Jan 2025) EllapsedTime: 1145.3 seconds RetCode: 0 Status: OK PackageFile: atena_1.13.0.tar.gz PackageFileSize: 1.306 MiB